BEGIN:VCALENDAR
VERSION:2.0
PRODID:-//ChamberMaster//Event Calendar 2.0//EN
METHOD:PUBLISH
X-PUBLISHED-TTL:P3D
REFRESH-INTERVAL:P3D
CALSCALE:GREGORIAN
BEGIN:VEVENT
DTSTART:20190111T190000Z
DTEND:20190111T193000Z
X-MICROSOFT-CDO-ALLDAYEVENT:FALSE
SUMMARY:Elite Car Wash Ribbon Cutting
DESCRIPTION:Join us as we celebrate the grand opening of Elite Car Wash with a ribbon cutting. In addition to the ribbon cutting\, Elite Car Wash will have an open house on March 23\, from 1:00 - 3:00 PM\, featuring food trucks\, a live band\, bounce houses\, giveaways and more.
X-ALT-DESC;FMTTYPE=text/html:Join us as we celebrate the grand opening of Elite Car Wash with a ribbon cutting. In addition to the ribbon cutting\, Elite Car Wash will have an open house on March 23\, from 1:00 - 3:00 PM\, featuring food trucks\, a live band\, bounce houses\, giveaways and more.&nbsp\;
LOCATION:3451 William Street Cape Girardeau\, MO
UID:e.1421.5743
SEQUENCE:3
DTSTAMP:20260424T061601Z
URL:https://business.capechamber.com/events/details/elite-car-wash-ribbon-cutting-5743
END:VEVENT

END:VCALENDAR
