BEGIN:VCALENDAR
VERSION:2.0
PRODID:-//ChamberMaster//Event Calendar 2.0//EN
METHOD:PUBLISH
X-PUBLISHED-TTL:P3D
REFRESH-INTERVAL:P3D
CALSCALE:GREGORIAN
BEGIN:VEVENT
DTSTART:20180718T190000Z
DTEND:20180718T193000Z
X-MICROSOFT-CDO-ALLDAYEVENT:FALSE
SUMMARY:Elite Carwash Groundbreaking
DESCRIPTION:Join us as we break ground on Elite Carwash's new express tunnel car wash!
X-ALT-DESC;FMTTYPE=text/html:Join us as we break ground on Elite Carwash&#39\;s<span style="caret-color: rgb(0\, 0\, 0)\; color: rgb(0\, 0\, 0)\; font-family: Arial\; font-size: 12px\;">&nbsp\;new express tunnel car wash!</span>
LOCATION:3451 William St. Cape Girardeau\, MO (Near Walmart)
UID:e.1421.5570
SEQUENCE:3
DTSTAMP:20260424T042714Z
URL:https://business.capechamber.com/events/details/elite-carwash-groundbreaking-5570
END:VEVENT

END:VCALENDAR
