BEGIN:VCALENDAR
VERSION:2.0
PRODID:-//ChamberMaster//Event Calendar 2.0//EN
METHOD:PUBLISH
X-PUBLISHED-TTL:P3D
REFRESH-INTERVAL:P3D
CALSCALE:GREGORIAN
BEGIN:VEVENT
DTSTART:20180905T170000Z
DTEND:20180905T173000Z
X-MICROSOFT-CDO-ALLDAYEVENT:FALSE
SUMMARY:Elite Travel Ribbon Cutting
DESCRIPTION:Join us as we help Elite Travel celebrate their 25th anniversary with a ribbon cutting!
X-ALT-DESC;FMTTYPE=text/html:Join us as we help Elite Travel celebrate their 25th anniversary with a ribbon cutting!
LOCATION:354 S. Silver Springs Road\, Suite C Cape Girardeau\, MO
UID:e.1421.5606
SEQUENCE:3
DTSTAMP:20260424T071816Z
URL:https://business.capechamber.com/events/details/elite-travel-ribbon-cutting-5606
END:VEVENT

END:VCALENDAR
