BEGIN:VCALENDAR
VERSION:2.0
PRODID:-//ChamberMaster//Event Calendar 2.0//EN
METHOD:PUBLISH
X-PUBLISHED-TTL:P3D
REFRESH-INTERVAL:P3D
CALSCALE:GREGORIAN
BEGIN:VEVENT
DTSTART:20181019T143000Z
DTEND:20181019T150000Z
X-MICROSOFT-CDO-ALLDAYEVENT:FALSE
SUMMARY:Farmer's Insurance - David Matthew's Agency Ribbon Cutting
DESCRIPTION:Please join us as we celebrate Farmer's Insurance - David Matthew's Agency's new ownership!
X-ALT-DESC;FMTTYPE=text/html:Please join us as we celebrate Farmer&#39\;s Insurance - David Matthew&#39\;s Agency&#39\;s new ownership!
LOCATION:1812 Carondelet Dr. Suite 105 Cape Girardeau\, MO
UID:e.1421.5664
SEQUENCE:3
DTSTAMP:20260424T090910Z
URL:https://business.capechamber.com/events/details/farmer-s-insurance-david-matthew-s-agency-ribbon-cutting-5664
END:VEVENT

END:VCALENDAR
