BEGIN:VCALENDAR
VERSION:2.0
PRODID:-//ChamberMaster//Event Calendar 2.0//EN
METHOD:PUBLISH
X-PUBLISHED-TTL:P3D
REFRESH-INTERVAL:P3D
CALSCALE:GREGORIAN
BEGIN:VEVENT
DTSTART:20171201T203000Z
DTEND:20171201T220000Z
X-MICROSOFT-CDO-ALLDAYEVENT:FALSE
SUMMARY:Fire Station 4 Open House
DESCRIPTION:Join us as we help the City of Cape Girardeau celebrate Fire Station 4!\n\n\n\nFire Station 4 Open House at 2:30 p.m.\n\nPresentations/Ceremony at 3 p.m.\n\nImmediately followed by FS2/annex open house.\n\nPhoto/Uncoupling by 4 p.m.
X-ALT-DESC;FMTTYPE=text/html:Join us as we help the City of Cape Girardeau celebrate Fire Station 4!<br />\n<br />\n<span style="font-family:arial\,sans-serif\;"><span style="font-size:10pt\;">Fire Station 4 Open House at 2:30 p.m.</span></span><br />\n<span style="font-family:arial\,sans-serif\;"><span style="font-size:10pt\;">Presentations/Ceremony at 3 p.m.</span></span><br />\n<span style="font-family:arial\,sans-serif\;"><span style="font-size:10pt\;">Immediately followed by FS2/annex open house.</span></span><br />\n<span style="font-family:arial\,sans-serif\;"><span style="font-size:10pt\;">Photo/Uncoupling by 4 p.m.</span></span>
LOCATION:3011 Lexington Cape Girardeau\, MO
UID:e.1421.1826
SEQUENCE:3
DTSTAMP:20260423T173858Z
URL:https://business.capechamber.com/events/details/fire-station-4-open-house-1826
END:VEVENT

END:VCALENDAR
