BEGIN:VCALENDAR
VERSION:2.0
PRODID:-//ChamberMaster//Event Calendar 2.0//EN
METHOD:PUBLISH
X-PUBLISHED-TTL:P3D
REFRESH-INTERVAL:P3D
CALSCALE:GREGORIAN
BEGIN:VEVENT
DTSTART:20260303T160000Z
DTEND:20260303T163000Z
X-MICROSOFT-CDO-ALLDAYEVENT:FALSE
SUMMARY:Firefly Supported Living and Employment Services Ribbon Cutting
DESCRIPTION:Join us as we celebrate the newest Chamber Members and Rebrand of Firefly Supported Living and Employment Services with a ribbon cutting!
X-ALT-DESC;FMTTYPE=text/html:Join us as we celebrate the newest Chamber Members and Rebrand of&nbsp\;<a href="https://business.capechamber.com/list/member/firefly-supported-living-and-employment-services-8779"><span style="color:#00cc33\;">Firefly Supported Living and Employment Services</span></a>&nbsp\;with a ribbon cutting!&nbsp\;
LOCATION:3105 Independence Suite 2 Cape Girardeau\, MO 63701
UID:e.1421.12666
SEQUENCE:3
DTSTAMP:20260424T184755Z
URL:https://business.capechamber.com/events/details/firefly-supported-living-and-employment-services-ribbon-cutting-12666
END:VEVENT

END:VCALENDAR
