BEGIN:VCALENDAR
VERSION:2.0
PRODID:-//ChamberMaster//Event Calendar 2.0//EN
METHOD:PUBLISH
X-PUBLISHED-TTL:P3D
REFRESH-INTERVAL:P3D
CALSCALE:GREGORIAN
BEGIN:VEVENT
DTSTART:20180302T130000Z
DTEND:20180302T143000Z
X-MICROSOFT-CDO-ALLDAYEVENT:FALSE
SUMMARY:First Friday Coffee
DESCRIPTION:Join approximately 300 Cape Chamber Members at First Friday Coffee\, an early morning networking opportunity that features a short program. Doors will open at 7:00 a.m. with the program beginning at 7:40 a.m.\, continental breakfast provided.\n\n\n\nProgram: TBA\n\n\n\nSponsored by:\n\nMondi\n\nKFVS
X-ALT-DESC;FMTTYPE=text/html:Join approximately 300 Cape Chamber Members at First Friday Coffee\, an early morning networking opportunity that features a short program. Doors will open at 7:00 a.m. with the&nbsp\;program&nbsp\;beginning at 7:40 a.m.\, continental breakfast provided.<br />\n<br />\nProgram: TBA<br />\n<br />\nSponsored by:<br />\n<span style="font-family:times new roman\,serif\;"><span style="font-size:12.0pt\;"><a href="https://www.mondigroup.com/en/home/">Mondi</a><br />\n<a href="http://www.kfvs12.com/">KFVS</a></span></span>
LOCATION:Isle Casino Cape Girardeau 777 North Main Street Cape Girardeau\, Missouri
UID:e.1421.2059
SEQUENCE:3
DTSTAMP:20260423T221821Z
URL:https://business.capechamber.com/events/details/first-friday-coffee-2059
END:VEVENT

END:VCALENDAR
