BEGIN:VCALENDAR
VERSION:2.0
PRODID:-//ChamberMaster//Event Calendar 2.0//EN
METHOD:PUBLISH
X-PUBLISHED-TTL:P3D
REFRESH-INTERVAL:P3D
CALSCALE:GREGORIAN
BEGIN:VEVENT
DTSTART:20180406T120000Z
DTEND:20180406T133000Z
X-MICROSOFT-CDO-ALLDAYEVENT:FALSE
SUMMARY:First Friday Coffee
DESCRIPTION:Join approximately 300 Cape Chamber Members at First Friday Coffee\, an early morning networking opportunity that features a short program. Doors will open at 7:00 a.m. with the program beginning at 7:40 a.m.\, continental breakfast provided.\n\n\n\nProgram: Your Courts are Working for You \n\nPresented By: Morry Cole and Chief Justice Zel M. Fischer\n\n\n\nSponsored by:\n\nBug Zero\n\nSouthern Bank
X-ALT-DESC;FMTTYPE=text/html:Join approximately 300 Cape Chamber Members at First Friday Coffee\, an early morning networking opportunity that features a short program. Doors will open at 7:00 a.m. with the&nbsp\;program&nbsp\;beginning at 7:40 a.m.\, continental breakfast provided.<br />\n<br />\nProgram: <em>Your Courts are Working for You </em><br />\nPresented By: Morry Cole and Chief Justice Zel M. Fischer<br />\n<br />\nSponsored by:<br />\n<a href="http://www.bugzero.com/">Bug Zero</a><br />\n<a href="https://www.bankwithsouthern.com/">Southern Bank</a>
LOCATION:Isle Casino Cape Girardeau 777 North Main Street Cape Girardeau\, Missouri
UID:e.1421.4265
SEQUENCE:3
DTSTAMP:20260423T235234Z
URL:https://business.capechamber.com/events/details/first-friday-coffee-4265
END:VEVENT

END:VCALENDAR
