BEGIN:VCALENDAR
VERSION:2.0
PRODID:-//ChamberMaster//Event Calendar 2.0//EN
METHOD:PUBLISH
X-PUBLISHED-TTL:P3D
REFRESH-INTERVAL:P3D
CALSCALE:GREGORIAN
BEGIN:VEVENT
DTSTART:20180803T120000Z
DTEND:20180803T133000Z
X-MICROSOFT-CDO-ALLDAYEVENT:FALSE
SUMMARY:First Friday Coffee
DESCRIPTION:Join approximately 300 Cape Chamber Members at First Friday Coffee\, an early morning networking opportunity that features a short program. Doors will open at 7:00 a.m. with the program beginning at 7:40 a.m.\, continental breakfast provided.\n\n\n\nProgram: Right to Work\n\n\n\nSponsored by:\n\nDrury Hotels\n\nSEMO Athletics
X-ALT-DESC;FMTTYPE=text/html:Join approximately 300 Cape Chamber Members at First Friday Coffee\, an early morning networking opportunity that features a short program. Doors will open at 7:00 a.m. with the&nbsp\;program&nbsp\;beginning at 7:40 a.m.\, continental breakfast provided.<br />\n<br />\nProgram: Right to Work<br />\n<br />\nSponsored by:<br />\n<a href="http://druryhotels.com" target="_blank"><span style="color:#008000\;">Drury Hotels</span></a><br />\n<a href="http://gosoutheast.com" target="_blank"><span style="color:#008000\;">SEMO Athletics</span></a>
LOCATION:Isle Casino Cape Girardeau Event Center
UID:e.1421.5613
SEQUENCE:3
DTSTAMP:20260424T053728Z
URL:https://business.capechamber.com/events/details/first-friday-coffee-5613
END:VEVENT

END:VCALENDAR
