BEGIN:VCALENDAR
VERSION:2.0
PRODID:-//ChamberMaster//Event Calendar 2.0//EN
METHOD:PUBLISH
X-PUBLISHED-TTL:P3D
REFRESH-INTERVAL:P3D
CALSCALE:GREGORIAN
BEGIN:VEVENT
DTSTART:20180907T120000Z
DTEND:20180907T133000Z
X-MICROSOFT-CDO-ALLDAYEVENT:FALSE
SUMMARY:First Friday Coffee
DESCRIPTION:Join approximately 300 Cape Chamber Members at First Friday Coffee\, an early morning networking opportunity that features a short program. Doors will open at 7:00 a.m. with the program beginning at 7:40 a.m.\, continental breakfast provided.\n\n\n\nProgram: Accomodating the Upcoming Workforce\n\n\n\nSponsored by:\n\nUnited Way of Southeast Missouri\n\nSERVPRO of Cape Girardeau & Scott Counties
X-ALT-DESC;FMTTYPE=text/html:Join approximately 300 Cape Chamber Members at First Friday Coffee\, an early morning networking opportunity that features a short program. Doors will open at 7:00 a.m. with the&nbsp\;program&nbsp\;beginning at 7:40 a.m.\, continental breakfast provided.<br />\n<br />\nProgram: Accomodating the Upcoming Workforce<br />\n<br />\nSponsored by:<br />\n<a href="https://www.unitedwayofsemo.org/" target="_blank"><span style="color:#008000\;">United Way of Southeast Missouri</span></a><br />\n<a href="http://www.servprocapegirardeauscottcounties.com/" target="_blank"><span style="color:#008000\;">SERVPRO of Cape Girardeau &amp\; Scott Counties</span></a>
LOCATION:Isle Casino Cape Girardeau Event Center
UID:e.1421.5615
SEQUENCE:3
DTSTAMP:20260424T071509Z
URL:https://business.capechamber.com/events/details/first-friday-coffee-5615
END:VEVENT

END:VCALENDAR
