BEGIN:VCALENDAR
VERSION:2.0
PRODID:-//ChamberMaster//Event Calendar 2.0//EN
METHOD:PUBLISH
X-PUBLISHED-TTL:P3D
REFRESH-INTERVAL:P3D
CALSCALE:GREGORIAN
BEGIN:VEVENT
DTSTART:20181102T120000Z
DTEND:20181102T133000Z
X-MICROSOFT-CDO-ALLDAYEVENT:FALSE
SUMMARY:First Friday Coffee
DESCRIPTION:Join approximately 300 Cape Chamber Members at First Friday Coffee\, an early morning networking opportunity that features a short program. Doors will open at 7:00 a.m. with the program beginning at 7:40 a.m.\, continental breakfast provided.\n\n\n\nProgram: Proposition D\n\n\n\nSponsored by:\n\nFirst Auto Credit\n\nCoalter Insurance Group
X-ALT-DESC;FMTTYPE=text/html:Join approximately 300 Cape Chamber Members at First Friday Coffee\, an early morning networking opportunity that features a short program. Doors will open at 7:00 a.m. with the&nbsp\;program&nbsp\;beginning at 7:40 a.m.\, continental breakfast provided.<br />\n<br />\nProgram: Proposition D<br />\n<br />\nSponsored by:<br />\n<a href="https://www.capechamber.com/members/first-auto-credit"><span style="color: rgb(0\, 128\, 0)\;">First Auto Credit</span></a><br />\n<a href="https://www.capechamber.com/members/coalter-insurance-group"><span style="color: rgb(0\, 128\, 0)\;">Coalter Insurance Group</span></a>
LOCATION:Isle Casino Cape Girardeau Event Center
UID:e.1421.5677
SEQUENCE:3
DTSTAMP:20260424T091140Z
URL:https://business.capechamber.com/events/details/first-friday-coffee-5677
END:VEVENT

END:VCALENDAR
