BEGIN:VCALENDAR
VERSION:2.0
PRODID:-//ChamberMaster//Event Calendar 2.0//EN
METHOD:PUBLISH
X-PUBLISHED-TTL:P3D
REFRESH-INTERVAL:P3D
CALSCALE:GREGORIAN
BEGIN:VEVENT
DTSTART:20181207T130000Z
DTEND:20181207T143000Z
X-MICROSOFT-CDO-ALLDAYEVENT:FALSE
SUMMARY:First Friday Coffee
DESCRIPTION:Join approximately 300 Cape Chamber Members at First Friday Coffee\, an early morning networking opportunity featuring a short program. Doors will open at 7:00 a.m. with the program beginning at 7:40 a.m.\, continental breakfast provided.\n\n\n\nProgram: Volunteerism in the Workplace\n\n\n\nSponsored by:\n\nCape Girardeau Regional Airport\n\nC.P.U.\, Inc.
X-ALT-DESC;FMTTYPE=text/html:Join approximately 300 Cape Chamber Members at First Friday Coffee\, an early morning networking opportunity featuring a short program. Doors will open at 7:00 a.m. with the&nbsp\;program&nbsp\;beginning at 7:40 a.m.\, continental breakfast provided.<br />\n<br />\nProgram: Volunteerism in the Workplace<br />\n<br />\nSponsored by:<br />\n<a href="https://www.cityofcapegirardeau.org/departments/airport"><span style="color:#008000\;">Cape Girardeau Regional Airport</span></a><br />\n<a href="http://www.c-p-u.com/"><span style="color:#008000\;">C.P.U.\, Inc.</span></a>
LOCATION:Isle Casino Cape Girardeau Event Center
UID:e.1421.5704
SEQUENCE:3
DTSTAMP:20260424T073043Z
URL:https://business.capechamber.com/events/details/first-friday-coffee-5704
END:VEVENT

END:VCALENDAR
