BEGIN:VCALENDAR
VERSION:2.0
PRODID:-//ChamberMaster//Event Calendar 2.0//EN
METHOD:PUBLISH
X-PUBLISHED-TTL:P3D
REFRESH-INTERVAL:P3D
CALSCALE:GREGORIAN
BEGIN:VEVENT
DTSTART:20170707T120000Z
DTEND:20170707T133000Z
X-MICROSOFT-CDO-ALLDAYEVENT:FALSE
SUMMARY:First Friday Coffee
DESCRIPTION:Doors open at 7:00 a.m. with a continental breakfast\, program begins at 7:40 a.m.  Sponsored by Element 74 and Habitat-Restore. Program: Community Champs: A panel conversation with local entrepreneurs \n\n\n\nGuest entrepreneurs:\n\nDana Thomas\, BOLD Marketing\n\nSkip Wrape\, River City Biologicals\n\n Chris Carnell\, Codefi
X-ALT-DESC;FMTTYPE=text/html:<p><span style="font-family:tahoma\;"><span style="font-size:14px\;"><span style="color: rgb(0\, 0\, 0)\;">Doors open at 7:00 a.m. with a continental breakfast\, program begins at 7:40 a.m.&nbsp\; Sponsored by Element&nbsp\;74 and Habitat-Restore.&nbsp\;Program: Community Champs: A panel conversation with local entrepreneurs&nbsp\;</span><br />\n<br />\nGuest entrepreneurs:<br />\nDana Thomas\, BOLD Marketing<br />\nSkip Wrape\, River City Biologicals<br />\n&#8203\;Chris Carnell\, Codefi</span></span></p>\n
LOCATION:Isle Casino Cape Girardeau 777 North Main Street Cape Girardeau\, Missouri
UID:e.1421.718
SEQUENCE:3
DTSTAMP:20260423T112006Z
URL:https://business.capechamber.com/events/details/first-friday-coffee-718
END:VEVENT

END:VCALENDAR
