BEGIN:VCALENDAR
VERSION:2.0
PRODID:-//ChamberMaster//Event Calendar 2.0//EN
METHOD:PUBLISH
X-PUBLISHED-TTL:P3D
REFRESH-INTERVAL:P3D
CALSCALE:GREGORIAN
BEGIN:VEVENT
DTSTART:20170928T164500Z
DTEND:20170928T171500Z
X-MICROSOFT-CDO-ALLDAYEVENT:FALSE
SUMMARY:Fountain Street Sculpture Ribbon Cutting
DESCRIPTION:Join us as we celebrate the new sculpture\, Commence\,  designed by professor Chris Wubbena and built by students as a partnership between the City of Cape and Southeast Missouri State University.
X-ALT-DESC;FMTTYPE=text/html:Join us as we celebrate the new sculpture\, Commence\, &#8203\;<span style="color: rgb(0\, 0\, 0)\; font-family: Arial\; font-size: 12px\;">designed by professor Chris Wubbena and built by students as a partnership between the City of Cape and Southeast Missouri State University.</span>
LOCATION:Fountain Street and Morgan Oak Roundabout (Near River Campus)
UID:e.1421.1796
SEQUENCE:3
DTSTAMP:20260423T125657Z
URL:https://business.capechamber.com/events/details/fountain-street-sculpture-ribbon-cutting-1796
END:VEVENT

END:VCALENDAR
