BEGIN:VCALENDAR
VERSION:2.0
PRODID:-//ChamberMaster//Event Calendar 2.0//EN
METHOD:PUBLISH
X-PUBLISHED-TTL:P3D
REFRESH-INTERVAL:P3D
CALSCALE:GREGORIAN
BEGIN:VEVENT
DTSTART:20180306T224500Z
DTEND:20180306T231500Z
X-MICROSOFT-CDO-ALLDAYEVENT:FALSE
SUMMARY:Fresenius Kidney Care Ribbon Cutting
DESCRIPTION:Join us as we celebrate the grand opening of Fresenius Kidney Care's new facility!\n\nTours will begin at 5:00 p.m.
X-ALT-DESC;FMTTYPE=text/html:Join us as we celebrate the g<span style="color: rgb(0\, 0\, 0)\; font-family: Arial\; font-size: 12px\;">rand opening of Fresenius Kidney Care&#39\;s new&nbsp\;facility!<br />\nTours will begin at 5:00 p.m.</span>
LOCATION:150 Farrar Dr Cape Girardeau\, MO
UID:e.1421.2060
SEQUENCE:3
DTSTAMP:20260423T222350Z
URL:https://business.capechamber.com/events/details/fresenius-kidney-care-ribbon-cutting-2060
END:VEVENT

END:VCALENDAR
