BEGIN:VCALENDAR
VERSION:2.0
PRODID:-//ChamberMaster//Event Calendar 2.0//EN
METHOD:PUBLISH
X-PUBLISHED-TTL:P3D
REFRESH-INTERVAL:P3D
CALSCALE:GREGORIAN
BEGIN:VEVENT
DTSTART:20190228T153000Z
DTEND:20190228T160000Z
X-MICROSOFT-CDO-ALLDAYEVENT:FALSE
SUMMARY:Fresh Healthy Cafe - Saint Francis Ribbon Cutting
DESCRIPTION:Join us as we celebrate the grand opening of  Fresh Healthy Cafe - Saint Francis.
X-ALT-DESC;FMTTYPE=text/html:Join us as we celebrate the grand opening of&nbsp\; Fresh Healthy Cafe - Saint Francis.&nbsp\;
LOCATION:150 S. Mount Auburn Road Cape Girardeau\, MO
UID:e.1421.5903
SEQUENCE:3
DTSTAMP:20260424T044343Z
URL:https://business.capechamber.com/events/details/fresh-healthy-cafe-saint-francis-ribbon-cutting-5903
END:VEVENT

END:VCALENDAR
