BEGIN:VCALENDAR
VERSION:2.0
PRODID:-//ChamberMaster//Event Calendar 2.0//EN
METHOD:PUBLISH
X-PUBLISHED-TTL:P3D
REFRESH-INTERVAL:P3D
CALSCALE:GREGORIAN
BEGIN:VEVENT
DTSTART:20171213T210000Z
DTEND:20171213T213000Z
X-MICROSOFT-CDO-ALLDAYEVENT:FALSE
SUMMARY:Froggy's Car Wash Ribbon Cutting
DESCRIPTION:Join us as we celebrate new ownership at Froggy's Car Wash!
X-ALT-DESC;FMTTYPE=text/html:Join us as we celebrate new ownership at Froggy&#39\;s Car Wash!
LOCATION:1301 William St. Cape Girardeau\, MO
UID:e.1421.1831
SEQUENCE:3
DTSTAMP:20260423T174224Z
URL:https://business.capechamber.com/events/details/froggy-s-car-wash-ribbon-cutting-1831
END:VEVENT

END:VCALENDAR
