BEGIN:VCALENDAR
VERSION:2.0
PRODID:-//ChamberMaster//Event Calendar 2.0//EN
METHOD:PUBLISH
X-PUBLISHED-TTL:P3D
REFRESH-INTERVAL:P3D
CALSCALE:GREGORIAN
BEGIN:VEVENT
DTSTART:20171103T173000Z
DTEND:20171103T180000Z
X-MICROSOFT-CDO-ALLDAYEVENT:FALSE
SUMMARY:Garbers Ribbon Cutting
DESCRIPTION:Join us as we celebrate Garbers' new management!
X-ALT-DESC;FMTTYPE=text/html:Join us as we celebrate Garbers&#39\; new management!&nbsp\; &nbsp\; &nbsp\;&nbsp\;
LOCATION:2110 Town Plaza Shopping Center Cape Girardeau\, MO
UID:e.1421.1818
SEQUENCE:3
DTSTAMP:20260423T155049Z
URL:https://business.capechamber.com/events/details/garbers-ribbon-cutting-1818
END:VEVENT

END:VCALENDAR
