BEGIN:VCALENDAR
VERSION:2.0
PRODID:-//ChamberMaster//Event Calendar 2.0//EN
METHOD:PUBLISH
X-PUBLISHED-TTL:P3D
REFRESH-INTERVAL:P3D
CALSCALE:GREGORIAN
BEGIN:VEVENT
DTSTART:20180723T160000Z
DTEND:20180723T163000Z
X-MICROSOFT-CDO-ALLDAYEVENT:FALSE
SUMMARY:Genesis Home Care Ribbon Cutting
DESCRIPTION:Join us as we celebrate Genesis Home Care's new location!
X-ALT-DESC;FMTTYPE=text/html:Join us as we celebrate Genesis Home Care&#39\;s new location!
LOCATION:1427 Thomas Dr. Cape Girardeau\, MO
UID:e.1421.5571
SEQUENCE:3
DTSTAMP:20260424T054119Z
URL:https://business.capechamber.com/events/details/genesis-home-care-ribbon-cutting-5571
END:VEVENT

END:VCALENDAR
