BEGIN:VCALENDAR
VERSION:2.0
PRODID:-//ChamberMaster//Event Calendar 2.0//EN
METHOD:PUBLISH
X-PUBLISHED-TTL:P3D
REFRESH-INTERVAL:P3D
CALSCALE:GREGORIAN
BEGIN:VEVENT
DTSTART:20180412T213000Z
DTEND:20180412T230000Z
X-MICROSOFT-CDO-ALLDAYEVENT:FALSE
SUMMARY:GFI Digital\, Inc. Ribbon Cutting
DESCRIPTION:Join us in celebrating a new location for GFI Digital\, Inc. with a ribbon cutting. An open house will follow the ribbon cutting.
X-ALT-DESC;FMTTYPE=text/html:Join us in celebrating a new location for&nbsp\;GFI Digital\, Inc. with a ribbon cutting. An open house will follow the ribbon cutting.&nbsp\;
LOCATION:2311 Bloomfield Rd. Suite 101 Cape Girardeau\, MO
UID:e.1421.4274
SEQUENCE:3
DTSTAMP:20260423T235548Z
URL:https://business.capechamber.com/events/details/gfi-digital-inc-ribbon-cutting-4274
END:VEVENT

END:VCALENDAR
