BEGIN:VCALENDAR
VERSION:2.0
PRODID:-//ChamberMaster//Event Calendar 2.0//EN
METHOD:PUBLISH
X-PUBLISHED-TTL:P3D
REFRESH-INTERVAL:P3D
CALSCALE:GREGORIAN
BEGIN:VEVENT
DTSTART:20180620T160000Z
DTEND:20180620T170000Z
X-MICROSOFT-CDO-ALLDAYEVENT:FALSE
SUMMARY:Google Livestream Workshop
DESCRIPTION:Three out of four people who perform a "near me" search on their phones visit a local business within a day. So how can retailers take advantage of this golden opportunity to drive foot traffic? That's the focus of our upcoming livestream\, packed with Google's tips for attracting in-store shoppers\, engaging with customers\, measuring results\, and more.\n\n\n\n*Please be advised: The Monday Morning Memo incorrectly listed this workshop to begin at noon. The workshop will run 11:00 a.m. - 12:00 p.m.\n\n\n\nRegister today to secure your spot!
X-ALT-DESC;FMTTYPE=text/html:Three out of four people who perform a &quot\;near me&quot\; search on their phones visit a local business within a day. So how can retailers take advantage of this golden opportunity to drive foot traffic? That&rsquo\;s the focus of our upcoming livestream\, packed with Google&rsquo\;s tips for attracting in-store shoppers\, engaging with customers\, measuring results\, and more.<br />\n<br />\n*Please be advised: The Monday Morning Memo incorrectly listed this workshop to begin at noon. <strong>The workshop will run 11:00 a.m. - 12:00 p.m.</strong><br />\n<br />\nRegister today to secure your spot!
LOCATION:University Center\, Program Lounge
UID:e.1421.5545
SEQUENCE:3
DTSTAMP:20260424T024748Z
URL:https://business.capechamber.com/events/details/google-livestream-workshop-5545
END:VEVENT

END:VCALENDAR
