BEGIN:VCALENDAR
VERSION:2.0
PRODID:-//ChamberMaster//Event Calendar 2.0//EN
METHOD:PUBLISH
X-PUBLISHED-TTL:P3D
REFRESH-INTERVAL:P3D
CALSCALE:GREGORIAN
BEGIN:VEVENT
DTSTART:20180501T150000Z
DTEND:20180501T153000Z
X-MICROSOFT-CDO-ALLDAYEVENT:FALSE
SUMMARY:Guardian Angels In Home Services LLC Ribbon Cutting
DESCRIPTION:Join us in celebrating the expansion of Guardian Angels In Home Services LLC to Cape Girardeau!
X-ALT-DESC;FMTTYPE=text/html:Join us in celebrating the expansion of Guardian Angels In Home Services LLC to Cape Girardeau!
LOCATION:1221 N Kingshighway Cape Girardeau\, MO
UID:e.1421.4337
SEQUENCE:3
DTSTAMP:20260424T013121Z
URL:https://business.capechamber.com/events/details/guardian-angels-in-home-services-llc-ribbon-cutting-4337
END:VEVENT

END:VCALENDAR
