BEGIN:VCALENDAR
VERSION:2.0
PRODID:-//ChamberMaster//Event Calendar 2.0//EN
METHOD:PUBLISH
X-PUBLISHED-TTL:P3D
REFRESH-INTERVAL:P3D
CALSCALE:GREGORIAN
BEGIN:VEVENT
DTSTART:20170804T163000Z
DTEND:20170804T170000Z
X-MICROSOFT-CDO-ALLDAYEVENT:FALSE
SUMMARY:Habitat for Humanity Ribbon Cutting
DESCRIPTION:Join us as we celebrate the dedication of Habitat for Humanity's newest home.\n\n\n\nLunch will follow the ribbon cutting.
X-ALT-DESC;FMTTYPE=text/html:Join us as we celebrate the dedication of Habitat for Humanity&#39\;s newest home.<br />\n<br />\n<em>Lunch will follow the ribbon cutting.</em>
LOCATION:1118 Ranney Ave Cape Girardeau\, MO
UID:e.1421.1780
SEQUENCE:3
DTSTAMP:20260423T112937Z
URL:https://business.capechamber.com/events/details/habitat-for-humanity-ribbon-cutting-1780
END:VEVENT

END:VCALENDAR
