BEGIN:VCALENDAR
VERSION:2.0
PRODID:-//ChamberMaster//Event Calendar 2.0//EN
METHOD:PUBLISH
X-PUBLISHED-TTL:P3D
REFRESH-INTERVAL:P3D
CALSCALE:GREGORIAN
BEGIN:VEVENT
DTSTART:20180920T213000Z
DTEND:20180920T220000Z
X-MICROSOFT-CDO-ALLDAYEVENT:FALSE
SUMMARY:Heartland Custom Flooring Ribbon Cutting
DESCRIPTION:Join us as we celebrate Hearland Custom Flooring's new location!
X-ALT-DESC;FMTTYPE=text/html:Join us as we celebrate Hearland Custom Flooring&#39\;s new location!&nbsp\;&nbsp\;&nbsp\;&nbsp\;
LOCATION:211 N. Spring Ave Cape Girardeau\, MO
UID:e.1421.5651
SEQUENCE:3
DTSTAMP:20260424T071826Z
URL:https://business.capechamber.com/events/details/heartland-custom-flooring-ribbon-cutting-5651
END:VEVENT

END:VCALENDAR
