BEGIN:VCALENDAR
VERSION:2.0
PRODID:-//ChamberMaster//Event Calendar 2.0//EN
METHOD:PUBLISH
X-PUBLISHED-TTL:P3D
REFRESH-INTERVAL:P3D
CALSCALE:GREGORIAN
BEGIN:VEVENT
DTSTART:20170803T200000Z
DTEND:20170803T203000Z
X-MICROSOFT-CDO-ALLDAYEVENT:FALSE
SUMMARY:Hendrickson Business Advisors Ribbon Cutting
DESCRIPTION:Join us as we help Hendrickson Business Advisors celebrate 10 years in business.
X-ALT-DESC;FMTTYPE=text/html:Join us as we help Hendrickson Business Advisors celebrate 10 years in business.
LOCATION:715 Clark St Cape Girardeau\, MO 63701
UID:e.1421.1769
SEQUENCE:3
DTSTAMP:20260423T112938Z
URL:https://business.capechamber.com/events/details/hendrickson-business-advisors-ribbon-cutting-1769
END:VEVENT

END:VCALENDAR
