BEGIN:VCALENDAR
VERSION:2.0
PRODID:-//ChamberMaster//Event Calendar 2.0//EN
METHOD:PUBLISH
X-PUBLISHED-TTL:P3D
REFRESH-INTERVAL:P3D
CALSCALE:GREGORIAN
BEGIN:VEVENT
DTSTART:20171207T173000Z
DTEND:20171207T180000Z
X-MICROSOFT-CDO-ALLDAYEVENT:FALSE
SUMMARY:Here Today Stores Ribbon Cutting
DESCRIPTION:Join us as we celebrate the grand opening of one of Cape Girardeau's newest businesses\, Here Today Stores!
X-ALT-DESC;FMTTYPE=text/html:Join us as we celebrate the grand opening of one of Cape Girardeau&#39\;s newest businesses\, Here Today Stores!
LOCATION:2136 William St Cape Girardeau\, MO
UID:e.1421.1830
SEQUENCE:3
DTSTAMP:20260423T191830Z
URL:https://business.capechamber.com/events/details/here-today-stores-ribbon-cutting-1830
END:VEVENT

END:VCALENDAR
