BEGIN:VCALENDAR
VERSION:2.0
PRODID:-//ChamberMaster//Event Calendar 2.0//EN
METHOD:PUBLISH
X-PUBLISHED-TTL:P3D
REFRESH-INTERVAL:P3D
CALSCALE:GREGORIAN
BEGIN:VEVENT
DTSTART:20180626T130000Z
DTEND:20180626T220000Z
X-MICROSOFT-CDO-ALLDAYEVENT:FALSE
SUMMARY:High Impact Presentations
DESCRIPTION:This program provides the skills that empower professionals to communicate confidently and competently to all types of audiences. We illustrate proven methods and techniques that allow you to develop compelling presentations with universal appeal\, yielding consistent\, positive results.  \n\n\n\nMeets 2 consecutive days\n\n8:00 AM - 5:00 PM\n\nJune 26-27\, 2018\n\n\n\nInvestment: $1\,695\n\n\n\nRegister at HendricksonBusinessAdvisors.com
X-ALT-DESC;FMTTYPE=text/html:This program provides the skills that empower professionals to communicate confidently and competently to all types of audiences. We illustrate proven methods and techniques that allow you to develop compelling presentations with universal appeal\, yielding consistent\, positive results.&nbsp\;&nbsp\;<br />\n<br />\n<u><strong>Meets 2 consecutive days</strong></u><br />\n8:00 AM - 5:00 PM<br />\nJune 26-27\, 2018<br />\n<br />\n<strong>Investment: $1\,695<br />\n<br />\nRegister at HendricksonBusinessAdvisors.com</strong>
LOCATION:
UID:e.1421.1805
SEQUENCE:3
DTSTAMP:20260424T040736Z
URL:https://business.capechamber.com/events/details/high-impact-presentations-1805
END:VEVENT

END:VCALENDAR
