BEGIN:VCALENDAR
VERSION:2.0
PRODID:-//ChamberMaster//Event Calendar 2.0//EN
METHOD:PUBLISH
X-PUBLISHED-TTL:P3D
REFRESH-INTERVAL:P3D
CALSCALE:GREGORIAN
BEGIN:VEVENT
DTSTART:20170607T170000Z
DTEND:20170607T173000Z
X-MICROSOFT-CDO-ALLDAYEVENT:FALSE
SUMMARY:Holt Electrical Ribbon Cutting
DESCRIPTION:Join us for a ribbon cutting for Holt Electrical Supplies to celebrate their recent opening in Cape Girardeau!
X-ALT-DESC;FMTTYPE=text/html:Join us for a ribbon cutting for Holt Electrical Supplies to celebrate their recent opening in Cape Girardeau!
LOCATION:2002 N. Kingshighway Cape Girardeau\, MO
UID:e.1421.756
SEQUENCE:3
DTSTAMP:20260421T135546Z
URL:https://business.capechamber.com/events/details/holt-electrical-ribbon-cutting-756
END:VEVENT

END:VCALENDAR
