BEGIN:VCALENDAR
VERSION:2.0
PRODID:-//ChamberMaster//Event Calendar 2.0//EN
METHOD:PUBLISH
X-PUBLISHED-TTL:P3D
REFRESH-INTERVAL:P3D
CALSCALE:GREGORIAN
BEGIN:VEVENT
DTSTART:20180309T160000Z
DTEND:20180309T203000Z
X-MICROSOFT-CDO-ALLDAYEVENT:FALSE
SUMMARY:How to Be a REAL Success Workshop
DESCRIPTION:GlennView will present a half-day workshop designed to expand your knowledge in four very important success building areas: Relationships\, Equipping\, Attitude\, and Leadership. Certified Trainer and John Maxwell Team Mentorship Member Jeff Glenn will present the workshop.\n\n\n\n$99 investment includes lunch and materials\n\n\n\nTo register please visit:\n\nhttps://www.glennpr.com/workshops.html
X-ALT-DESC;FMTTYPE=text/html:<span style="font-size:18px"><span style="font-family:verdana"><span style="font-family:tahoma">GlennView will present&nbsp\;</span><span style="color:rgb(29\, 33\, 41)"><span style="font-family:tahoma">a half-day workshop designed to expand your knowledge in four very important success building areas: Relationships\, Equipping\, Attitude\, and Leadership. Certified Trainer and John Maxwell Team Mentorship Member Jeff Glenn will present the workshop.</span></span></span><br />\n<br />\n<span style="font-family:tahoma">$99 investment includes lunch and materials</span><br />\n<br />\nTo register please visit:<br />\n<a href="https://www.glennpr.com/workshops.html">https://www.glennpr.com/workshops.html</a></span><br />\n<br />\n<br />\n&nbsp\;
LOCATION:The Concourse 429 N. Broadview Cape Girardeau\, MO 63701
UID:e.1421.3881
SEQUENCE:3
DTSTAMP:20260423T235426Z
URL:https://business.capechamber.com/events/details/how-to-be-a-real-success-workshop-3881
END:VEVENT

END:VCALENDAR
