BEGIN:VCALENDAR
VERSION:2.0
PRODID:-//ChamberMaster//Event Calendar 2.0//EN
METHOD:PUBLISH
X-PUBLISHED-TTL:P3D
REFRESH-INTERVAL:P3D
CALSCALE:GREGORIAN
BEGIN:VEVENT
DTSTART:20180810T133000Z
DTEND:20180810T200000Z
X-MICROSOFT-CDO-ALLDAYEVENT:FALSE
SUMMARY:How to Supervise People and Lead a Team
DESCRIPTION:Glenn Shepard Seminar: How to Supervise People and Lead a Team\n\n\n\nTuition\n\nChamber members (If business is a member\, any employee can receive the Chamber member rate regardless of representative status): $197\n\nCommunity members: $247\n\n*When 3 or more enroll\, the 4th person attends for free\n\n\n\nAbout the course: http://www.glennshepard.com/
X-ALT-DESC;FMTTYPE=text/html:<strong>Glenn Shepard Seminar: How to Supervise People and Lead a Team<br />\n<br />\nTuition</strong><br />\nChamber members (If business is a member\, any employee can receive the Chamber member rate regardless of representative status): $197<br />\nCommunity members: $247<br />\n*When 3 or more enroll\, the 4th person attends for free<br />\n<br />\n<strong>About the course:</strong>&nbsp\;<a href="http://www.glennshepard.com/"><span style="color:#008000\;">http://www.glennshepard.com/&nbsp\;</span></a>
LOCATION:Drury Plaza Hotel & Conference Center
UID:e.1421.5343
SEQUENCE:3
DTSTAMP:20260424T054136Z
URL:https://business.capechamber.com/events/details/how-to-supervise-people-and-lead-a-team-5343
END:VEVENT

END:VCALENDAR
