BEGIN:VCALENDAR
VERSION:2.0
PRODID:-//ChamberMaster//Event Calendar 2.0//EN
METHOD:PUBLISH
X-PUBLISHED-TTL:P3D
REFRESH-INTERVAL:P3D
CALSCALE:GREGORIAN
BEGIN:VEVENT
DTSTART:20170919T203000Z
DTEND:20170919T210000Z
X-MICROSOFT-CDO-ALLDAYEVENT:FALSE
SUMMARY:Humane Society Ribbon Cutting
DESCRIPTION:Join us as we celebrate the addition of the Humane Society's Nestle Purina Care Unit.
X-ALT-DESC;FMTTYPE=text/html:Join us as we celebrate the addition of the Humane Society&#39\;s Nestle Purina Care Unit.
LOCATION:2536 Boutin Dr Cape Girardeau\, MO
UID:e.1421.1790
SEQUENCE:3
DTSTAMP:20260423T124748Z
URL:https://business.capechamber.com/events/details/humane-society-ribbon-cutting-1790
END:VEVENT

END:VCALENDAR
