BEGIN:VCALENDAR
VERSION:2.0
PRODID:-//ChamberMaster//Event Calendar 2.0//EN
METHOD:PUBLISH
X-PUBLISHED-TTL:P3D
REFRESH-INTERVAL:P3D
CALSCALE:GREGORIAN
BEGIN:VEVENT
DTSTART:20170508T150000Z
DTEND:20170508T153000Z
X-MICROSOFT-CDO-ALLDAYEVENT:FALSE
SUMMARY:Innovative Financial Solutions Ribbon Cutting
DESCRIPTION:Stop by to help us celebrate Innovative Financial Solution's 10 years in business!
X-ALT-DESC;FMTTYPE=text/html:Stop by to help us celebrate Innovative Financial Solution&#39\;s 10 years in business!
LOCATION:1923 N. Kingshighway Cape Girardeau\, MO
UID:e.1421.750
SEQUENCE:3
DTSTAMP:20260423T084611Z
URL:https://business.capechamber.com/events/details/innovative-financial-solutions-ribbon-cutting-750
END:VEVENT

END:VCALENDAR
