BEGIN:VCALENDAR
VERSION:2.0
PRODID:-//ChamberMaster//Event Calendar 2.0//EN
METHOD:PUBLISH
X-PUBLISHED-TTL:P3D
REFRESH-INTERVAL:P3D
CALSCALE:GREGORIAN
BEGIN:VEVENT
DTSTART:20171107T210000Z
DTEND:20171107T213000Z
X-MICROSOFT-CDO-ALLDAYEVENT:FALSE
SUMMARY:Integrated Supply Company Ribbon Cutting
DESCRIPTION:Join us as we celebrate Integrated Supply Company's 25th anniversary!
X-ALT-DESC;FMTTYPE=text/html:Join us as we celebrate Integrated Supply Company&#39\;s&nbsp\;25th anniversary!
LOCATION:605 Main St Cape Girardeau\, MO
UID:e.1421.1820
SEQUENCE:3
DTSTAMP:20260423T155011Z
URL:https://business.capechamber.com/events/details/integrated-supply-company-1820
END:VEVENT

END:VCALENDAR
