BEGIN:VCALENDAR
VERSION:2.0
PRODID:-//ChamberMaster//Event Calendar 2.0//EN
METHOD:PUBLISH
X-PUBLISHED-TTL:P3D
REFRESH-INTERVAL:P3D
CALSCALE:GREGORIAN
BEGIN:VEVENT
DTSTART:20171030T210000Z
DTEND:20171030T213000Z
X-MICROSOFT-CDO-ALLDAYEVENT:FALSE
SUMMARY:Isle Casino Ribbon Cutting
DESCRIPTION:Join us as we celebrate the Isle Casino's 5th Anniversary!
X-ALT-DESC;FMTTYPE=text/html:Join us as we celebrate the Isle Casino&#39\;s 5th Anniversary!
LOCATION:777 N. Main Cape Girardeau\, MO
UID:e.1421.1800
SEQUENCE:3
DTSTAMP:20260423T142102Z
URL:https://business.capechamber.com/events/details/isle-casino-ribbon-cutting-1800
END:VEVENT

END:VCALENDAR
