BEGIN:VCALENDAR
VERSION:2.0
PRODID:-//ChamberMaster//Event Calendar 2.0//EN
METHOD:PUBLISH
X-PUBLISHED-TTL:P3D
REFRESH-INTERVAL:P3D
CALSCALE:GREGORIAN
BEGIN:VEVENT
DTSTART:20180822T150000Z
DTEND:20180822T153000Z
X-MICROSOFT-CDO-ALLDAYEVENT:FALSE
SUMMARY:Jackson Egg Company Ribbon Cutting
DESCRIPTION:Join us as we celebrate Jackson Egg Company's new egg production facility!
X-ALT-DESC;FMTTYPE=text/html:Join us as we celebrate Jackson Egg Company&#39\;s new egg production facility!&nbsp\; &nbsp\;
LOCATION:970 Co. Rd. 434 Jackson\, MO 63755
UID:e.1421.5627
SEQUENCE:3
DTSTAMP:20260424T053927Z
URL:https://business.capechamber.com/events/details/jackson-egg-company-ribbon-cutting-5627
END:VEVENT

END:VCALENDAR
