BEGIN:VCALENDAR
VERSION:2.0
PRODID:-//ChamberMaster//Event Calendar 2.0//EN
METHOD:PUBLISH
X-PUBLISHED-TTL:P3D
REFRESH-INTERVAL:P3D
CALSCALE:GREGORIAN
BEGIN:VEVENT
DTSTART:20180206T170000Z
DTEND:20180206T173000Z
X-MICROSOFT-CDO-ALLDAYEVENT:FALSE
SUMMARY:Kidd's Inc. Ground Breaking
DESCRIPTION:Join us as we celebrate the ground breaking of Kidd's Inc.'s new Broadway location!
X-ALT-DESC;FMTTYPE=text/html:Join us as we celebrate the ground breaking of Kidd&#39\;s Inc.&#39\;s new Broadway location!
LOCATION:1325 Broadway Cape Girardeau\, MO
UID:e.1421.3863
SEQUENCE:3
DTSTAMP:20260423T205835Z
URL:https://business.capechamber.com/events/details/kidd-s-inc-ground-breaking-3863
END:VEVENT

END:VCALENDAR
