BEGIN:VCALENDAR
VERSION:2.0
PRODID:-//ChamberMaster//Event Calendar 2.0//EN
METHOD:PUBLISH
X-PUBLISHED-TTL:P3D
REFRESH-INTERVAL:P3D
CALSCALE:GREGORIAN
BEGIN:VEVENT
DTSTART:20180322T210000Z
DTEND:20180322T213000Z
X-MICROSOFT-CDO-ALLDAYEVENT:FALSE
SUMMARY:KLG Engineering Ribbon Cutting
DESCRIPTION:Join us in the Marquette Tower on the fourth floor to celebrate KLG Engineering's grand opening! Once you get off the elevator\, turn left and you will find their office on the right.
X-ALT-DESC;FMTTYPE=text/html:Join us in the Marquette Tower on the fourth floor to celebrate&nbsp\;KLG Engineering&#39\;s grand opening! Once you get off the elevator\, turn left and you will find their office on the right.
LOCATION:338 Broadway Fourth Floor Cape Girardeau\, MO
UID:e.1421.4273
SEQUENCE:3
DTSTAMP:20260423T221943Z
URL:https://business.capechamber.com/events/details/klg-engineering-ribbon-cutting-4273
END:VEVENT

END:VCALENDAR
