BEGIN:VCALENDAR
VERSION:2.0
PRODID:-//ChamberMaster//Event Calendar 2.0//EN
METHOD:PUBLISH
X-PUBLISHED-TTL:P3D
REFRESH-INTERVAL:P3D
CALSCALE:GREGORIAN
BEGIN:VEVENT
DTSTART:20260305T160000Z
DTEND:20260305T163000Z
X-MICROSOFT-CDO-ALLDAYEVENT:FALSE
SUMMARY:KRCU Public Radio Ribbon Cutting
DESCRIPTION:Join us as we celebrate the 50th anniversary of KRCU Public Radio with a ribbon cutting!
X-ALT-DESC;FMTTYPE=text/html:Join us as we celebrate the 50th anniversary of <a href="https://business.capechamber.com/list/member/southeast-missouri-university-foundation-3098"><span style="color:#00cc33\;">KRCU Public Radio</span></a>&nbsp\;with a ribbon cutting!&nbsp\;
LOCATION:920 Academic Circle Cape Girardeau\, MO 63701
UID:e.1421.12640
SEQUENCE:3
DTSTAMP:20260423T112825Z
URL:https://business.capechamber.com/events/details/krcu-public-radio-ribbon-cutting-12640
END:VEVENT

END:VCALENDAR
