BEGIN:VCALENDAR
VERSION:2.0
PRODID:-//ChamberMaster//Event Calendar 2.0//EN
METHOD:PUBLISH
X-PUBLISHED-TTL:P3D
REFRESH-INTERVAL:P3D
CALSCALE:GREGORIAN
BEGIN:VEVENT
DTSTART:20190208T190000Z
DTEND:20190208T193000Z
X-MICROSOFT-CDO-ALLDAYEVENT:FALSE
SUMMARY:Krispy Kreme Doughnuts Ribbon Cutting
DESCRIPTION:Come have an exclusive look at the new Krispy Kreme Doughnuts facility as we help kick-off their grand opening festivities with a ribbon cutting.
X-ALT-DESC;FMTTYPE=text/html:Come have an exclusive look at the new Krispy Kreme Doughnuts facility as we help kick-off their grand opening festivities with a ribbon cutting.&nbsp\;
LOCATION:2122 William Street Cape Girardeau\, MO
UID:e.1421.5894
SEQUENCE:3
DTSTAMP:20260424T044150Z
URL:https://business.capechamber.com/events/details/krispy-kreme-doughnuts-ribbon-cutting-5894
END:VEVENT

END:VCALENDAR
