BEGIN:VCALENDAR
VERSION:2.0
PRODID:-//ChamberMaster//Event Calendar 2.0//EN
METHOD:PUBLISH
X-PUBLISHED-TTL:P3D
REFRESH-INTERVAL:P3D
CALSCALE:GREGORIAN
BEGIN:VEVENT
DTSTART:20180928T180000Z
DTEND:20180928T183000Z
X-MICROSOFT-CDO-ALLDAYEVENT:FALSE
SUMMARY:Krispy Kreme Groundbreaking
DESCRIPTION:Please join us as we celebrate the groundbreaking of Krispy Kreme!
X-ALT-DESC;FMTTYPE=text/html:Please join us as we celebrate the groundbreaking of Krispy Kreme!
LOCATION:2136 William Street Cape Girardeau\, MO
UID:e.1421.5667
SEQUENCE:3
DTSTAMP:20260424T071555Z
URL:https://business.capechamber.com/events/details/krispy-kreme-groundbreaking-5667
END:VEVENT

END:VCALENDAR
