BEGIN:VCALENDAR
VERSION:2.0
PRODID:-//ChamberMaster//Event Calendar 2.0//EN
METHOD:PUBLISH
X-PUBLISHED-TTL:P3D
REFRESH-INTERVAL:P3D
CALSCALE:GREGORIAN
BEGIN:VEVENT
DTSTART:20191204T173000Z
DTEND:20191204T180000Z
X-MICROSOFT-CDO-ALLDAYEVENT:FALSE
SUMMARY:Laurel Adkisson Insurance Agency Ribbon Cutting
DESCRIPTION:Laurel Adkisson Insurance Agency is celebrating their 20 year anniversary with an open house from 11:00 - 1:00. Join us as we help them celebrate this milestone with a ribbon cutting at 11:30!
X-ALT-DESC;FMTTYPE=text/html:Laurel Adkisson Insurance Agency is celebrating their 20 year anniversary with an open house from 11:00 - 1:00. Join us as we help them celebrate this milestone with a ribbon cutting at 11:30!
LOCATION:760 S Kingshighway Cape Girardeau\, MO
UID:e.1421.6504
SEQUENCE:3
DTSTAMP:20260423T124814Z
URL:https://business.capechamber.com/events/details/laurel-adkisson-insurance-agency-ribbon-cutting-6504
END:VEVENT

END:VCALENDAR
