BEGIN:VCALENDAR
VERSION:2.0
PRODID:-//ChamberMaster//Event Calendar 2.0//EN
METHOD:PUBLISH
X-PUBLISHED-TTL:P3D
REFRESH-INTERVAL:P3D
CALSCALE:GREGORIAN
BEGIN:VEVENT
DTSTART:20180726T223000Z
DTEND:20180727T000000Z
X-MICROSOFT-CDO-ALLDAYEVENT:FALSE
SUMMARY:Leadership Cape Graduation
DESCRIPTION:A private reception is being held for the Leadership Cape Class of 2018.  \n\nIf you are an alumni of the Leadership Cape Program you are invited to attend this reception as well. \n\nRegistration is required.
X-ALT-DESC;FMTTYPE=text/html:A private reception is being held for the Leadership Cape Class of 2018.&nbsp\;&nbsp\;<br />\nIf you are an alumni of the Leadership Cape Program you are invited to attend this reception as well.&nbsp\;<br />\nRegistration is required.&nbsp\;<br />\n&nbsp\;
LOCATION:Saint Francis Healthcare Saint Francis Conference Center - Entrance 1 211 Saint Francis Drive
UID:e.1421.5348
SEQUENCE:3
DTSTAMP:20260424T053846Z
URL:https://business.capechamber.com/events/details/leadership-cape-graduation-5348
END:VEVENT

END:VCALENDAR
