BEGIN:VCALENDAR
VERSION:2.0
PRODID:-//ChamberMaster//Event Calendar 2.0//EN
METHOD:PUBLISH
X-PUBLISHED-TTL:P3D
REFRESH-INTERVAL:P3D
CALSCALE:GREGORIAN
BEGIN:VEVENT
DTSTART:20190313T223000Z
DTEND:20190314T000000Z
X-MICROSOFT-CDO-ALLDAYEVENT:FALSE
SUMMARY:Leadership Cape - New Class Reception
DESCRIPTION:Leadership Cape Alumni are invited to welcome the members of the 2019 class. This reception represents the beginning of a seven month journey into leadership within our community.\n\n\n\nPlease RSVP below by noon\, March 8\, 2019.
X-ALT-DESC;FMTTYPE=text/html:<strong>Leadership Cape Alumni</strong> are invited to welcome the members of the 2019 class. This reception represents the beginning of a seven month journey into leadership within our community.<br />\n<br />\nPlease RSVP below by noon\, March 8\, 2019.&nbsp\;
LOCATION:Montgomery Bank 2027 Broadway Cape Girardeau\, MO
UID:e.1421.5689
SEQUENCE:3
DTSTAMP:20260424T030937Z
URL:https://business.capechamber.com/events/details/leadership-cape-new-class-reception-5689
END:VEVENT

END:VCALENDAR
