BEGIN:VCALENDAR
VERSION:2.0
PRODID:-//ChamberMaster//Event Calendar 2.0//EN
METHOD:PUBLISH
X-PUBLISHED-TTL:P3D
REFRESH-INTERVAL:P3D
CALSCALE:GREGORIAN
BEGIN:VEVENT
DTSTART:20200311T220000Z
DTEND:20200312T000000Z
X-MICROSOFT-CDO-ALLDAYEVENT:FALSE
SUMMARY:Leadership Cape - New Class Reception
DESCRIPTION:Leadership Cape Alumni are invited to welcome the members of the 2020 class. This reception represents the beginning of a seven month journey into leadership within our community.\n\n\n\nPlease RSVP below by noon\, March 9\, 2020.
X-ALT-DESC;FMTTYPE=text/html:<strong>Leadership Cape Alumni</strong> are invited to welcome the members of the 2020 class. This reception represents the beginning of a seven month journey into leadership within our community.<br />\n<br />\nPlease RSVP below by noon\, March 9\, 2020.&nbsp\;
LOCATION:Montgomery Bank Training Center 526 West Main Street Jackson\, MO
UID:e.1421.6898
SEQUENCE:3
DTSTAMP:20260423T100210Z
URL:https://business.capechamber.com/events/details/leadership-cape-new-class-reception-6898
END:VEVENT

END:VCALENDAR
