BEGIN:VCALENDAR
VERSION:2.0
PRODID:-//ChamberMaster//Event Calendar 2.0//EN
METHOD:PUBLISH
X-PUBLISHED-TTL:P3D
REFRESH-INTERVAL:P3D
CALSCALE:GREGORIAN
BEGIN:VEVENT
DTSTART:20180731T210000Z
DTEND:20180731T230000Z
X-MICROSOFT-CDO-ALLDAYEVENT:FALSE
SUMMARY:Leadership Cape Wrap Up Meeting
DESCRIPTION:Leadership Cape Class of 2018\, congratulations! Now that you have completed the program\, let's talk! Join us in the Board Room at the Regional Development Center to discuss what you enjoyed\, what could be improved and more.
X-ALT-DESC;FMTTYPE=text/html:Leadership Cape Class of 2018\, congratulations! Now that you have completed the program\, let&#39\;s talk! Join us in the Board Room at the Regional Development Center to discuss what you enjoyed\, what could be improved and more.
LOCATION:Regional Development Center Board Room
UID:e.1421.5564
SEQUENCE:3
DTSTAMP:20260424T042805Z
URL:https://business.capechamber.com/events/details/leadership-cape-wrap-up-meeting-5564
END:VEVENT

END:VCALENDAR
