BEGIN:VCALENDAR
VERSION:2.0
PRODID:-//ChamberMaster//Event Calendar 2.0//EN
METHOD:PUBLISH
X-PUBLISHED-TTL:P3D
REFRESH-INTERVAL:P3D
CALSCALE:GREGORIAN
BEGIN:VEVENT
DTSTART:20180705T130000Z
DTEND:20180705T140000Z
X-MICROSOFT-CDO-ALLDAYEVENT:FALSE
SUMMARY:Leadership Development Committee
DESCRIPTION:Sponsors the Leadership Cape Girardeau program to assist emerging leaders in getting to know the area\, other leaders and information.\n\n\n\nContact Kim Voelker with questions.
X-ALT-DESC;FMTTYPE=text/html:<span style="font-family:albertus mt lt\;"><span style="font-size:10.0pt\;">Sponsors the Leadership Cape Girardeau program to assist emerging leaders in getting to know the area\, other leaders and information.<br />\n<br />\nContact Kim Voelker with questions.</span></span><br />\n&nbsp\;
LOCATION:Chamber Training Room
UID:e.1421.2067
SEQUENCE:3
DTSTAMP:20260424T041846Z
URL:https://business.capechamber.com/events/details/leadership-development-committee-2067
END:VEVENT

END:VCALENDAR
