BEGIN:VCALENDAR
VERSION:2.0
PRODID:-//ChamberMaster//Event Calendar 2.0//EN
METHOD:PUBLISH
X-PUBLISHED-TTL:P3D
REFRESH-INTERVAL:P3D
CALSCALE:GREGORIAN
BEGIN:VEVENT
DTSTART:20180608T170000Z
DTEND:20180608T180000Z
X-MICROSOFT-CDO-ALLDAYEVENT:FALSE
SUMMARY:Leadership Gold Lunch and Learn: Never Work A Day In Your Life
DESCRIPTION:$25 investment includes the lesson\, discussion\, and worksheet. Participants will order and pay for their own lunch from the menu upon arrival. Leadership Gold Lunch & Learn sessions will help you better understand leadership opportunities when you experience them and provide tools to assist you in those situations.\n\n\n\nTo register\, please visit our website at https://www.glennpr.com/lunch---learn.html\n\n \n\nThe cost to attend is $25/session. (Registration fee does not include lunch.)\n\nParticipants will order and pay for their own lunch from the menu.\n\nAll sessions are held at Beef 'O'Brady's from Noon to 1:00 p.m. on the date indicated.\n\nPayment is due upon registration. No refunds for no-shows. Substitutions are permitted.
X-ALT-DESC;FMTTYPE=text/html:$25 investment includes the lesson\, discussion\, and worksheet. Participants will order and pay for their own lunch from the menu upon arrival. Leadership Gold Lunch &amp\; Learn sessions will help you better understand leadership opportunities when you experience them and provide tools to assist you in those situations.<br />\n<br />\nTo register\, please visit our website at <em><span style="font-family:calibri\,sans-serif"><span style="font-size:11.0pt"><a href="https://www.glennpr.com/lunch---learn.html">https://www.glennpr.com/lunch---learn.html</a></span></span></em><br />\n&nbsp\;<br />\nThe cost to attend is $25/session. (Registration fee does not include lunch.)<br />\nParticipants will order and pay for their own lunch from the menu.<br />\nAll sessions are held at Beef &#39\;O&#39\;Brady&#39\;s from Noon to 1:00 p.m. on the date indicated.<br />\nPayment is due upon registration. No refunds for no-shows. Substitutions are permitted.
LOCATION:Beef O'Brady's 1812 N. Kingshighway Cape Girardeau MO 63701
UID:e.1421.3901
SEQUENCE:3
DTSTAMP:20260424T042933Z
URL:https://business.capechamber.com/events/details/leadership-gold-lunch-and-learn-never-work-a-day-in-your-life-3901
END:VEVENT

END:VCALENDAR
