BEGIN:VCALENDAR
VERSION:2.0
PRODID:-//ChamberMaster//Event Calendar 2.0//EN
METHOD:PUBLISH
X-PUBLISHED-TTL:P3D
REFRESH-INTERVAL:P3D
CALSCALE:GREGORIAN
BEGIN:VEVENT
DTSTART:20180912T220000Z
DTEND:20180913T000000Z
X-MICROSOFT-CDO-ALLDAYEVENT:FALSE
SUMMARY:Leadership Missouri Alumni Event
DESCRIPTION:The 2018 Class of Leadership Missouri will be visiting the Cape Girardeau Area September 12-14\, 2018.\n\n\n\nPlease join us in giving them a warm\, Southeast Missouri welcome! Alumni from Leadership Missouri\, Leadership Cape and Leadership Jackson are all invited to attend.\n\n\n\nComplimentary appetizers and a cash bar will be available.
X-ALT-DESC;FMTTYPE=text/html:<br />\nThe 2018 Class of Leadership Missouri will be visiting the Cape Girardeau Area September 12-14\, 2018.<br />\n<br />\nPlease join us in giving them a warm\, Southeast Missouri welcome! Alumni from Leadership Missouri\, Leadership Cape and Leadership Jackson are all invited to attend.<br />\n<br />\nComplimentary appetizers and a cash bar will be available.
LOCATION:The Library in Downtown Cape Girardeau
UID:e.1421.5648
SEQUENCE:3
DTSTAMP:20260424T071708Z
URL:https://business.capechamber.com/events/details/leadership-missouri-alumni-event-5648
END:VEVENT

END:VCALENDAR
