BEGIN:VCALENDAR
VERSION:2.0
PRODID:-//ChamberMaster//Event Calendar 2.0//EN
METHOD:PUBLISH
X-PUBLISHED-TTL:P3D
REFRESH-INTERVAL:P3D
CALSCALE:GREGORIAN
BEGIN:VEVENT
DTSTART:20181002T130000Z
DTEND:20181002T220000Z
X-MICROSOFT-CDO-ALLDAYEVENT:FALSE
SUMMARY:Leadership Training for Managers
DESCRIPTION:In this course\, dedicated leaders will learn proven methods for developing engaged\, high performing teams. You will learn to build a culture where team members are confident in their abilities\, empowered to take action\, enthusiastic to deliver results\, and inspired to make a difference. Because the only sustainable competitive advantage of any corporation is the innovation and creativity of their people\, Leadership Training for Managers equips you to engage team members by unleashing their unique talents to maximize their ingenuity.  \n\n\n\nMeets 3 consecutive days\n\n8:00 AM - 5:00 PM\n\nOctober 2-4\, 2018\n\n\n\nInvestment: $1\,695\n\n\n\nRegister at HendricksonBusinessAdvisors.com
X-ALT-DESC;FMTTYPE=text/html:In this course\, dedicated leaders will learn proven methods for developing engaged\, high performing teams. You will learn to build a culture where team members are confident in their abilities\, empowered to take action\, enthusiastic to deliver results\, and inspired to make a difference. Because the only sustainable competitive advantage of any corporation is the innovation and creativity of their people\, Leadership Training for Managers equips you to engage team members by unleashing their unique talents to maximize their ingenuity.&nbsp\;&nbsp\;<br />\n<br />\n<u><strong>Meets 3 consecutive days</strong></u><br />\n8:00 AM - 5:00 PM<br />\nOctober 2-4\, 2018<br />\n<br />\n<strong>Investment: $1\,695<br />\n<br />\nRegister at HendricksonBusinessAdvisors.com</strong>
LOCATION:
UID:e.1421.1809
SEQUENCE:3
DTSTAMP:20260424T084915Z
URL:https://business.capechamber.com/events/details/leadership-training-for-managers-1809
END:VEVENT

END:VCALENDAR
