BEGIN:VCALENDAR
VERSION:2.0
PRODID:-//ChamberMaster//Event Calendar 2.0//EN
METHOD:PUBLISH
X-PUBLISHED-TTL:P3D
REFRESH-INTERVAL:P3D
CALSCALE:GREGORIAN
BEGIN:VEVENT
DTSTART:20181011T230000Z
DTEND:20181012T010000Z
X-MICROSOFT-CDO-ALLDAYEVENT:FALSE
SUMMARY:Leading Partner Dinner
DESCRIPTION:With sincere appreciation for making our progress possible\, we cordially invite you to the Leading Partner Dinner. Please join us as we celebrate your continued support of the Cape Chamber.\n\n\n\n*Up to two attendees per partner
X-ALT-DESC;FMTTYPE=text/html:With sincere appreciation for making our progress possible\, we cordially invite you to the Leading Partner Dinner. Please join us as we celebrate your continued support of the Cape Chamber.<br />\n<br />\n*Up to two attendees per partner
LOCATION:36 Restaurant & Bar
UID:e.1421.5662
SEQUENCE:3
DTSTAMP:20260424T084746Z
URL:https://business.capechamber.com/events/details/leading-partner-dinner-5662
END:VEVENT

END:VCALENDAR
